BEGIN:VCALENDAR
VERSION:2.0
PRODID:-//South Sound Sailing Society - ECPv6.15.17.1//NONSGML v1.0//EN
CALSCALE:GREGORIAN
METHOD:PUBLISH
X-ORIGINAL-URL:https://www.ssssclub.com
X-WR-CALDESC:Events for South Sound Sailing Society
REFRESH-INTERVAL;VALUE=DURATION:PT1H
X-Robots-Tag:noindex
X-PUBLISHED-TTL:PT1H
BEGIN:VTIMEZONE
TZID:America/Los_Angeles
BEGIN:DAYLIGHT
TZOFFSETFROM:-0800
TZOFFSETTO:-0700
TZNAME:PDT
DTSTART:20250309T100000
END:DAYLIGHT
BEGIN:STANDARD
TZOFFSETFROM:-0700
TZOFFSETTO:-0800
TZNAME:PST
DTSTART:20251102T090000
END:STANDARD
BEGIN:DAYLIGHT
TZOFFSETFROM:-0800
TZOFFSETTO:-0700
TZNAME:PDT
DTSTART:20260308T100000
END:DAYLIGHT
BEGIN:STANDARD
TZOFFSETFROM:-0700
TZOFFSETTO:-0800
TZNAME:PST
DTSTART:20261101T090000
END:STANDARD
BEGIN:DAYLIGHT
TZOFFSETFROM:-0800
TZOFFSETTO:-0700
TZNAME:PDT
DTSTART:20270314T100000
END:DAYLIGHT
BEGIN:STANDARD
TZOFFSETFROM:-0700
TZOFFSETTO:-0800
TZNAME:PST
DTSTART:20271107T090000
END:STANDARD
END:VTIMEZONE
BEGIN:VEVENT
DTSTART;TZID=America/Los_Angeles:20260317T180000
DTEND;TZID=America/Los_Angeles:20260317T210000
DTSTAMP:20260424T073007
CREATED:20251207T191955Z
LAST-MODIFIED:20260220T213103Z
UID:18277-1773770400-1773781200@www.ssssclub.com
SUMMARY:General Meeting- Mar 17th
DESCRIPTION:Sailing Adventures in the Great Lakes and East Coast + Vendor Pre-sessions \nJoin your sailing colleagues and friends on March 17 for a presentation by Jeff Reiner on his East Coast sailing adventure. In 2021\, Jeff bought a Jeanneau 49DS in Chicago with a plan to sail from the Great Lakes to the Caribbean\, then—over four to five years—through the Panama Canal and on to Washington via Hawaii. As he’ll tell you\, even the best plans take unexpected turns… \nJeff will share stories from his journey out of the Great Lakes\, through more than 100 locks\, down the Hudson River to New York City\, and “down east” to New England while dodging a hurricane. The following year\, he headed south to the Chesapeake\, visiting Washington DC\, Annapolis\, Baltimore\, and Philadelphia. In 2026\, he hopes to reach Boston for the 250th Independence Day celebrations before continuing north to Maine and Nova Scotia. \nJeff is the President of South Sound Honda Suzuki Polaris\, a graduate of Aberdeen High School\, and an experienced adventurer. \nBefore the main meeting\, our round‑table discussions will feature local marine vendors offering advice and services to help you prepare for the summer sailing season. Invitations have gone out to diesel mechanics\, bottom‑paint specialists\, gelcoat and teak refinishers\, electrical and electronics experts\, canvas installers\, and more. \nThe doors at the Olympia Yacht Club will open at 5:45 PM and the pre-meeting sessions will begin at 6:00 PM. The General Meeting will begin at 7:00 PM.
URL:https://www.ssssclub.com/event/general-meeting-mar-17th/
CATEGORIES:Meetings
END:VEVENT
END:VCALENDAR