BEGIN:VCALENDAR
VERSION:2.0
PRODID:-//South Sound Sailing Society - ECPv6.15.17.1//NONSGML v1.0//EN
CALSCALE:GREGORIAN
METHOD:PUBLISH
X-WR-CALNAME:South Sound Sailing Society
X-ORIGINAL-URL:https://www.ssssclub.com
X-WR-CALDESC:Events for South Sound Sailing Society
REFRESH-INTERVAL;VALUE=DURATION:PT1H
X-Robots-Tag:noindex
X-PUBLISHED-TTL:PT1H
BEGIN:VTIMEZONE
TZID:America/Los_Angeles
BEGIN:DAYLIGHT
TZOFFSETFROM:-0800
TZOFFSETTO:-0700
TZNAME:PDT
DTSTART:20250309T100000
END:DAYLIGHT
BEGIN:STANDARD
TZOFFSETFROM:-0700
TZOFFSETTO:-0800
TZNAME:PST
DTSTART:20251102T090000
END:STANDARD
BEGIN:DAYLIGHT
TZOFFSETFROM:-0800
TZOFFSETTO:-0700
TZNAME:PDT
DTSTART:20260308T100000
END:DAYLIGHT
BEGIN:STANDARD
TZOFFSETFROM:-0700
TZOFFSETTO:-0800
TZNAME:PST
DTSTART:20261101T090000
END:STANDARD
BEGIN:DAYLIGHT
TZOFFSETFROM:-0800
TZOFFSETTO:-0700
TZNAME:PDT
DTSTART:20270314T100000
END:DAYLIGHT
BEGIN:STANDARD
TZOFFSETFROM:-0700
TZOFFSETTO:-0800
TZNAME:PST
DTSTART:20271107T090000
END:STANDARD
END:VTIMEZONE
BEGIN:VEVENT
DTSTART;TZID=America/Los_Angeles:20260421T180000
DTEND;TZID=America/Los_Angeles:20260421T210000
DTSTAMP:20260423T221433
CREATED:20251207T192255Z
LAST-MODIFIED:20260320T192453Z
UID:18281-1776794400-1776805200@www.ssssclub.com
SUMMARY:General Meeting- April
DESCRIPTION:Summer Cruising and Racing \nThe days are getting longer\, the sun warmer\, and it will soon be time to get your boat out of the slip and into the waters of the Salish Sea\, Georgia Strait\, Southeast Alaska\, and beyond. Or\, get your boat prepared for summer evening races! \nOur April 21 SSSS meeting will be designed to share cruising information based on where you want to go or prepare you for summer evening dinghy\, Stars\, and PHRF buoy races.  We will have round-table discussions with our members who have years of experience heading north to Alaska; who understand the best ways to get to and wander through the San Juan Islands; have circumnavigated Vancouver Island; and visited the Broughtons. In addition\, we will have table discussions for skippers and crew who are interested in racing their small sailboats\, Stars\, and sailboats with PHRF ratings this summer. \nPre-meeting Sessions:  Also\, we plan to have pre-meeting sessions on selling your sailboat or buying a new one\, discussing the proposed hotel at the Swantown marina\, whether there is interest in providing women sailors an opportunity to meet and learn from each other\, and other topics. \nMeeting Details: Doors of the Olympia Yacht Club at 201 Simmons St NW will open at 5:45 pm\, the Pre-sessions will start promptly at 6:00 pm\, and the General meeting at 7:00 pm. Free Parking is available in the lot south of the OYC main parking lot. \nHave your significant-other\, friends\, families\, and crew members join you. Plus\, we love to have guests.
URL:https://www.ssssclub.com/event/general-meeting-april/
LOCATION:OYC Clubhouse
CATEGORIES:Meetings
END:VEVENT
BEGIN:VEVENT
DTSTART;TZID=America/Los_Angeles:20260317T180000
DTEND;TZID=America/Los_Angeles:20260317T210000
DTSTAMP:20260423T221433
CREATED:20251207T191955Z
LAST-MODIFIED:20260220T213103Z
UID:18277-1773770400-1773781200@www.ssssclub.com
SUMMARY:General Meeting- Mar 17th
DESCRIPTION:Sailing Adventures in the Great Lakes and East Coast + Vendor Pre-sessions \nJoin your sailing colleagues and friends on March 17 for a presentation by Jeff Reiner on his East Coast sailing adventure. In 2021\, Jeff bought a Jeanneau 49DS in Chicago with a plan to sail from the Great Lakes to the Caribbean\, then—over four to five years—through the Panama Canal and on to Washington via Hawaii. As he’ll tell you\, even the best plans take unexpected turns… \nJeff will share stories from his journey out of the Great Lakes\, through more than 100 locks\, down the Hudson River to New York City\, and “down east” to New England while dodging a hurricane. The following year\, he headed south to the Chesapeake\, visiting Washington DC\, Annapolis\, Baltimore\, and Philadelphia. In 2026\, he hopes to reach Boston for the 250th Independence Day celebrations before continuing north to Maine and Nova Scotia. \nJeff is the President of South Sound Honda Suzuki Polaris\, a graduate of Aberdeen High School\, and an experienced adventurer. \nBefore the main meeting\, our round‑table discussions will feature local marine vendors offering advice and services to help you prepare for the summer sailing season. Invitations have gone out to diesel mechanics\, bottom‑paint specialists\, gelcoat and teak refinishers\, electrical and electronics experts\, canvas installers\, and more. \nThe doors at the Olympia Yacht Club will open at 5:45 PM and the pre-meeting sessions will begin at 6:00 PM. The General Meeting will begin at 7:00 PM.
URL:https://www.ssssclub.com/event/general-meeting-mar-17th/
CATEGORIES:Meetings
END:VEVENT
BEGIN:VEVENT
DTSTART;TZID=America/Los_Angeles:20260217T190000
DTEND;TZID=America/Los_Angeles:20260217T210000
DTSTAMP:20260423T221433
CREATED:20251207T191914Z
LAST-MODIFIED:20260126T192141Z
UID:18275-1771354800-1771362000@www.ssssclub.com
SUMMARY:General Meeting- Feb 17 - Ferry Boat Adventures
DESCRIPTION:Our February SSSS meeting will feature Captain Michael Edwards\, who is the Chief Mate on ferries in the  Washington State ferry system. He has been asked to share good stories about serving on a ferry boat\, including stormy weather\, rescuing individuals in the water\, navigating when sailboats are in the area\, and other stories he tells his family and friends.  He also will share the VHF channels ferry boat captains listen to\, letting us know ferry horn signals\, including five short blasts\, and who has the right of way when a sailboat and a ferry boat are on a collision course.  Captain Edwards has been with the Washington ferry system for seven years.  He also worked for the Western Towboat Company and Edison Chousest Offshore. \nIn addition\, we will have 3-4 pre-meeting skill and knowledge round-table sessions. The topics will be shared with you via email in early February. \nDoors at the Olympia Yacht Club (201 Simmons St NW) will open at 5:45 pm and the pre -meeting sessions will begin at 6:00 pm.  The General Meeting will commence at 7:00 pm.
URL:https://www.ssssclub.com/event/general-meeting-feb-18/
CATEGORIES:Meetings
END:VEVENT
BEGIN:VEVENT
DTSTART;TZID=America/Los_Angeles:20260120T180000
DTEND;TZID=America/Los_Angeles:20260120T210000
DTSTAMP:20260423T221433
CREATED:20251207T191635Z
LAST-MODIFIED:20251220T220648Z
UID:18270-1768932000-1768942800@www.ssssclub.com
SUMMARY:General Meeting- Jan 20th
DESCRIPTION:January 20 SSSS General Meeting\nSummer Adventure Cruises and Races\nDo you have any summer sailing adventures planned? Are you one that likes to have “stretch” goals to keep you motivated and off the couch?  The January 20th SSSS General meeting will feature Jesse Wiegle\, NW Maritime’s “Race Boss”\, who will share how you and your crew can participate in the races and cruises sponsored by the center\, including the “Race to Alaska (R2AK); the Salish 100\, which is a seven-day cruise from Olympia to Port Townsend; and the WA360\, which is a human and wind-powered race that starts in Port Townsend\, goes to Olympia\, and returns to Port Townsend.  In addition\, we will hear about the Harstine Island GT sponsored by SSSS. \nIn addition\, we will have 3-4 pre-meeting skill and knowledge round-table sessions beginning at 6:00 pm.  The topics will be shared with you via email in early January. \nMeeting Details:  Doors at the Olympia Yacht Club (201 Simmons St NW) will open at 5:45 pm and the pre -meeting sessions will begin at 6:00 pm.  The General Meeting will commence at 7:00 pm. The meeting is open not only to SSSS members\, but also sailors who think they might be interested in joining our group\, crew members\, significant others\, and others who want to have a good time. \nFree parking is available in the lot south of the main Olympia Yacht Club parking lot. There is no need to pay\, but please do not park in slips that are “Reserved”.
URL:https://www.ssssclub.com/event/general-meeting-jan-20th/
CATEGORIES:Meetings
END:VEVENT
END:VCALENDAR