BEGIN:VCALENDAR
VERSION:2.0
PRODID:-//South Sound Sailing Society - ECPv6.15.17.1//NONSGML v1.0//EN
CALSCALE:GREGORIAN
METHOD:PUBLISH
X-ORIGINAL-URL:https://www.ssssclub.com
X-WR-CALDESC:Events for South Sound Sailing Society
REFRESH-INTERVAL;VALUE=DURATION:PT1H
X-Robots-Tag:noindex
X-PUBLISHED-TTL:PT1H
BEGIN:VTIMEZONE
TZID:America/Los_Angeles
BEGIN:DAYLIGHT
TZOFFSETFROM:-0800
TZOFFSETTO:-0700
TZNAME:PDT
DTSTART:20250309T100000
END:DAYLIGHT
BEGIN:STANDARD
TZOFFSETFROM:-0700
TZOFFSETTO:-0800
TZNAME:PST
DTSTART:20251102T090000
END:STANDARD
BEGIN:DAYLIGHT
TZOFFSETFROM:-0800
TZOFFSETTO:-0700
TZNAME:PDT
DTSTART:20260308T100000
END:DAYLIGHT
BEGIN:STANDARD
TZOFFSETFROM:-0700
TZOFFSETTO:-0800
TZNAME:PST
DTSTART:20261101T090000
END:STANDARD
BEGIN:DAYLIGHT
TZOFFSETFROM:-0800
TZOFFSETTO:-0700
TZNAME:PDT
DTSTART:20270314T100000
END:DAYLIGHT
BEGIN:STANDARD
TZOFFSETFROM:-0700
TZOFFSETTO:-0800
TZNAME:PST
DTSTART:20271107T090000
END:STANDARD
END:VTIMEZONE
BEGIN:VEVENT
DTSTART;VALUE=DATE:20260103
DTEND;VALUE=DATE:20260104
DTSTAMP:20260423T210621
CREATED:20251201T061239Z
LAST-MODIFIED:20251201T061239Z
UID:18214-1767398400-1767484799@www.ssssclub.com
SUMMARY:Duwamish Head Race
DESCRIPTION:
URL:https://www.ssssclub.com/event/duwamish-head-race/
CATEGORIES:Racing
END:VEVENT
BEGIN:VEVENT
DTSTART;TZID=America/Los_Angeles:20260117T080000
DTEND;TZID=America/Los_Angeles:20260117T170000
DTSTAMP:20260423T210621
CREATED:20251201T055651Z
LAST-MODIFIED:20251201T055651Z
UID:18172-1768636800-1768669200@www.ssssclub.com
SUMMARY:Eld Inlet Race
DESCRIPTION:
URL:https://www.ssssclub.com/event/eld-inlet-race/
CATEGORIES:Racing
END:VEVENT
BEGIN:VEVENT
DTSTART;TZID=America/Los_Angeles:20260124T080000
DTEND;TZID=America/Los_Angeles:20260124T170000
DTSTAMP:20260423T210621
CREATED:20251201T055716Z
LAST-MODIFIED:20251201T055716Z
UID:18174-1769241600-1769274000@www.ssssclub.com
SUMMARY:Henderson Inlet Race
DESCRIPTION:
URL:https://www.ssssclub.com/event/henderson-inlet-race/
CATEGORIES:Racing
END:VEVENT
END:VCALENDAR