BEGIN:VCALENDAR
VERSION:2.0
PRODID:-//South Sound Sailing Society - ECPv6.15.17.1//NONSGML v1.0//EN
CALSCALE:GREGORIAN
METHOD:PUBLISH
X-ORIGINAL-URL:https://www.ssssclub.com
X-WR-CALDESC:Events for South Sound Sailing Society
REFRESH-INTERVAL;VALUE=DURATION:PT1H
X-Robots-Tag:noindex
X-PUBLISHED-TTL:PT1H
BEGIN:VTIMEZONE
TZID:America/Los_Angeles
BEGIN:DAYLIGHT
TZOFFSETFROM:-0800
TZOFFSETTO:-0700
TZNAME:PDT
DTSTART:20250309T100000
END:DAYLIGHT
BEGIN:STANDARD
TZOFFSETFROM:-0700
TZOFFSETTO:-0800
TZNAME:PST
DTSTART:20251102T090000
END:STANDARD
BEGIN:DAYLIGHT
TZOFFSETFROM:-0800
TZOFFSETTO:-0700
TZNAME:PDT
DTSTART:20260308T100000
END:DAYLIGHT
BEGIN:STANDARD
TZOFFSETFROM:-0700
TZOFFSETTO:-0800
TZNAME:PST
DTSTART:20261101T090000
END:STANDARD
BEGIN:DAYLIGHT
TZOFFSETFROM:-0800
TZOFFSETTO:-0700
TZNAME:PDT
DTSTART:20270314T100000
END:DAYLIGHT
BEGIN:STANDARD
TZOFFSETFROM:-0700
TZOFFSETTO:-0800
TZNAME:PST
DTSTART:20271107T090000
END:STANDARD
END:VTIMEZONE
BEGIN:VEVENT
DTSTART;VALUE=DATE:20260214
DTEND;VALUE=DATE:20260215
DTSTAMP:20260423T165643
CREATED:20251201T061302Z
LAST-MODIFIED:20260120T064251Z
UID:18216-1771027200-1771113599@www.ssssclub.com
SUMMARY:Toliva Shoal Race
DESCRIPTION:This special event\, which coincides with Presidents’ Day weekend in February\, is part of the Southern Sound Series. It is co-hosted by SSSS and the Olympia Yacht Club.  \nToliva Shoal is a full weekend of events\, including the race itself. It is our best-attended race and the only one that attracts boats from throughout Puget Sound\, commonly drawing 60-100 boats. Many locals who only do one race a year do this one. There is a party the night before that has a reputation in the Puget Sound sailing community as an event all by itself. This is your chance to sample “down Sound” racing without leaving Olympia. \nGo To: Southern Sound Series Page
URL:https://www.ssssclub.com/event/toliva-shoal-race/
CATEGORIES:Racing
END:VEVENT
END:VCALENDAR