BEGIN:VCALENDAR
VERSION:2.0
PRODID:-//South Sound Sailing Society - ECPv6.15.17.1//NONSGML v1.0//EN
CALSCALE:GREGORIAN
METHOD:PUBLISH
X-ORIGINAL-URL:https://www.ssssclub.com
X-WR-CALDESC:Events for South Sound Sailing Society
REFRESH-INTERVAL;VALUE=DURATION:PT1H
X-Robots-Tag:noindex
X-PUBLISHED-TTL:PT1H
BEGIN:VTIMEZONE
TZID:America/Los_Angeles
BEGIN:DAYLIGHT
TZOFFSETFROM:-0800
TZOFFSETTO:-0700
TZNAME:PDT
DTSTART:20250309T100000
END:DAYLIGHT
BEGIN:STANDARD
TZOFFSETFROM:-0700
TZOFFSETTO:-0800
TZNAME:PST
DTSTART:20251102T090000
END:STANDARD
BEGIN:DAYLIGHT
TZOFFSETFROM:-0800
TZOFFSETTO:-0700
TZNAME:PDT
DTSTART:20260308T100000
END:DAYLIGHT
BEGIN:STANDARD
TZOFFSETFROM:-0700
TZOFFSETTO:-0800
TZNAME:PST
DTSTART:20261101T090000
END:STANDARD
BEGIN:DAYLIGHT
TZOFFSETFROM:-0800
TZOFFSETTO:-0700
TZNAME:PDT
DTSTART:20270314T100000
END:DAYLIGHT
BEGIN:STANDARD
TZOFFSETFROM:-0700
TZOFFSETTO:-0800
TZNAME:PST
DTSTART:20271107T090000
END:STANDARD
END:VTIMEZONE
BEGIN:VEVENT
DTSTART;TZID=America/Los_Angeles:20260507T183000
DTEND;TZID=America/Los_Angeles:20260507T200000
DTSTAMP:20260423T151155
CREATED:20260312T062516Z
LAST-MODIFIED:20260312T164624Z
UID:18535-1778178600-1778184000@www.ssssclub.com
SUMMARY:Dinghy Racing
DESCRIPTION:Portsmouth Dinghy Racing
URL:https://www.ssssclub.com/event/thursday-dinghy-racing/
CATEGORIES:Racing
END:VEVENT
BEGIN:VEVENT
DTSTART;TZID=America/Los_Angeles:20260509T120000
DTEND;TZID=America/Los_Angeles:20260509T180000
DTSTAMP:20260423T151155
CREATED:20251201T060016Z
LAST-MODIFIED:20260329T191519Z
UID:18184-1778328000-1778349600@www.ssssclub.com
SUMMARY:Spring Series Race 3
DESCRIPTION:
URL:https://www.ssssclub.com/event/spring-series-race-3/
CATEGORIES:Racing
END:VEVENT
BEGIN:VEVENT
DTSTART;TZID=America/Los_Angeles:20260514T183000
DTEND;TZID=America/Los_Angeles:20260514T200000
DTSTAMP:20260423T151155
CREATED:20260312T164830Z
LAST-MODIFIED:20260312T164830Z
UID:18545-1778783400-1778788800@www.ssssclub.com
SUMMARY:Dinghy Racing
DESCRIPTION:Portsmouth Dinghy Racing – South Sound Sailing Society
URL:https://www.ssssclub.com/event/dinghy-racing/
CATEGORIES:Racing
END:VEVENT
BEGIN:VEVENT
DTSTART;TZID=America/Los_Angeles:20260516T120000
DTEND;TZID=America/Los_Angeles:20260516T180000
DTSTAMP:20260423T151155
CREATED:20251201T060049Z
LAST-MODIFIED:20260329T191746Z
UID:18186-1778932800-1778954400@www.ssssclub.com
SUMMARY:Spring Series Race 4
DESCRIPTION:
URL:https://www.ssssclub.com/event/spring-series-race-4/
CATEGORIES:Racing
END:VEVENT
BEGIN:VEVENT
DTSTART;TZID=America/Los_Angeles:20260521T183000
DTEND;TZID=America/Los_Angeles:20260521T200000
DTSTAMP:20260423T151155
CREATED:20260312T164938Z
LAST-MODIFIED:20260312T164938Z
UID:18547-1779388200-1779393600@www.ssssclub.com
SUMMARY:Dinghy Racing
DESCRIPTION:Portsmouth Dinghy Racing – South Sound Sailing Society
URL:https://www.ssssclub.com/event/dinghy-racing-2/
CATEGORIES:Racing
END:VEVENT
BEGIN:VEVENT
DTSTART;TZID=America/Los_Angeles:20260527T183000
DTEND;TZID=America/Los_Angeles:20260527T210000
DTSTAMP:20260423T151155
CREATED:20251201T060145Z
LAST-MODIFIED:20260329T192531Z
UID:18188-1779906600-1779915600@www.ssssclub.com
SUMMARY:Commodore Series Race 1
DESCRIPTION:
URL:https://www.ssssclub.com/event/commodore-series-race-1/
CATEGORIES:Racing
END:VEVENT
BEGIN:VEVENT
DTSTART;TZID=America/Los_Angeles:20260528T183000
DTEND;TZID=America/Los_Angeles:20260528T200000
DTSTAMP:20260423T151155
CREATED:20260312T165024Z
LAST-MODIFIED:20260312T165024Z
UID:18549-1779993000-1779998400@www.ssssclub.com
SUMMARY:Dinghy Racing
DESCRIPTION:Portsmouth Dinghy Racing – South Sound Sailing Society
URL:https://www.ssssclub.com/event/dinghy-racing-3/
CATEGORIES:Racing
END:VEVENT
END:VCALENDAR