BEGIN:VCALENDAR
VERSION:2.0
PRODID:-//South Sound Sailing Society - ECPv6.15.17.1//NONSGML v1.0//EN
CALSCALE:GREGORIAN
METHOD:PUBLISH
X-WR-CALNAME:South Sound Sailing Society
X-ORIGINAL-URL:https://www.ssssclub.com
X-WR-CALDESC:Events for South Sound Sailing Society
REFRESH-INTERVAL;VALUE=DURATION:PT1H
X-Robots-Tag:noindex
X-PUBLISHED-TTL:PT1H
BEGIN:VTIMEZONE
TZID:America/Los_Angeles
BEGIN:DAYLIGHT
TZOFFSETFROM:-0800
TZOFFSETTO:-0700
TZNAME:PDT
DTSTART:20250309T100000
END:DAYLIGHT
BEGIN:STANDARD
TZOFFSETFROM:-0700
TZOFFSETTO:-0800
TZNAME:PST
DTSTART:20251102T090000
END:STANDARD
BEGIN:DAYLIGHT
TZOFFSETFROM:-0800
TZOFFSETTO:-0700
TZNAME:PDT
DTSTART:20260308T100000
END:DAYLIGHT
BEGIN:STANDARD
TZOFFSETFROM:-0700
TZOFFSETTO:-0800
TZNAME:PST
DTSTART:20261101T090000
END:STANDARD
BEGIN:DAYLIGHT
TZOFFSETFROM:-0800
TZOFFSETTO:-0700
TZNAME:PDT
DTSTART:20270314T100000
END:DAYLIGHT
BEGIN:STANDARD
TZOFFSETFROM:-0700
TZOFFSETTO:-0800
TZNAME:PST
DTSTART:20271107T090000
END:STANDARD
END:VTIMEZONE
BEGIN:VEVENT
DTSTART;TZID=America/Los_Angeles:20260617T183000
DTEND;TZID=America/Los_Angeles:20260617T210000
DTSTAMP:20260423T114016
CREATED:20251201T060445Z
LAST-MODIFIED:20260329T192753Z
UID:18196-1781721000-1781730000@www.ssssclub.com
SUMMARY:Commodore Series Race 4
DESCRIPTION:
URL:https://www.ssssclub.com/event/commodore-series-race-4/
CATEGORIES:Racing
END:VEVENT
BEGIN:VEVENT
DTSTART;TZID=America/Los_Angeles:20260624T183000
DTEND;TZID=America/Los_Angeles:20260624T210000
DTSTAMP:20260423T114016
CREATED:20251201T060538Z
LAST-MODIFIED:20260329T192830Z
UID:18198-1782325800-1782334800@www.ssssclub.com
SUMMARY:Vice-Commodore Series Race 1
DESCRIPTION:
URL:https://www.ssssclub.com/event/vice-commodore-series-race-1/
CATEGORIES:Racing
END:VEVENT
BEGIN:VEVENT
DTSTART;TZID=America/Los_Angeles:20260701T183000
DTEND;TZID=America/Los_Angeles:20260701T210000
DTSTAMP:20260423T114016
CREATED:20251201T060630Z
LAST-MODIFIED:20260329T192854Z
UID:18200-1782930600-1782939600@www.ssssclub.com
SUMMARY:Vice-Commodore Series Race 2
DESCRIPTION:
URL:https://www.ssssclub.com/event/vice-commodore-series-race-2/
CATEGORIES:Racing
END:VEVENT
BEGIN:VEVENT
DTSTART;TZID=America/Los_Angeles:20260708T183000
DTEND;TZID=America/Los_Angeles:20260708T210000
DTSTAMP:20260423T114016
CREATED:20251201T060711Z
LAST-MODIFIED:20260329T192933Z
UID:18202-1783535400-1783544400@www.ssssclub.com
SUMMARY:Vice-Commodore Series Race 3
DESCRIPTION:
URL:https://www.ssssclub.com/event/vice-commodore-series-race-3/
CATEGORIES:Racing
END:VEVENT
BEGIN:VEVENT
DTSTART;TZID=America/Los_Angeles:20260715T183000
DTEND;TZID=America/Los_Angeles:20260715T210000
DTSTAMP:20260423T114016
CREATED:20251201T060749Z
LAST-MODIFIED:20260329T193005Z
UID:18204-1784140200-1784149200@www.ssssclub.com
SUMMARY:Vice-Commodore Series Race 4
DESCRIPTION:
URL:https://www.ssssclub.com/event/vice-commodore-series-race-4/
CATEGORIES:Racing
END:VEVENT
BEGIN:VEVENT
DTSTART;TZID=America/Los_Angeles:20260722T183000
DTEND;TZID=America/Los_Angeles:20260722T203000
DTSTAMP:20260423T114016
CREATED:20251201T060834Z
LAST-MODIFIED:20260329T193218Z
UID:18206-1784745000-1784752200@www.ssssclub.com
SUMMARY:Secretaries Series Race 1
DESCRIPTION:
URL:https://www.ssssclub.com/event/secretaries-series-race-1/
CATEGORIES:Racing
END:VEVENT
BEGIN:VEVENT
DTSTART;TZID=America/Los_Angeles:20260729T183000
DTEND;TZID=America/Los_Angeles:20260729T203000
DTSTAMP:20260423T114016
CREATED:20251201T060908Z
LAST-MODIFIED:20260329T193248Z
UID:18208-1785349800-1785357000@www.ssssclub.com
SUMMARY:Secretaries Series Race 2
DESCRIPTION:
URL:https://www.ssssclub.com/event/secretaries-series-race-2/
CATEGORIES:Racing
END:VEVENT
BEGIN:VEVENT
DTSTART;TZID=America/Los_Angeles:20260805T183000
DTEND;TZID=America/Los_Angeles:20260805T203000
DTSTAMP:20260423T114016
CREATED:20251201T060950Z
LAST-MODIFIED:20260329T193315Z
UID:18210-1785954600-1785961800@www.ssssclub.com
SUMMARY:Secretaries Series Race 3
DESCRIPTION:
URL:https://www.ssssclub.com/event/secretaries-series-race-3/
CATEGORIES:Racing
END:VEVENT
BEGIN:VEVENT
DTSTART;TZID=America/Los_Angeles:20260812T183000
DTEND;TZID=America/Los_Angeles:20260812T203000
DTSTAMP:20260423T114016
CREATED:20251201T061033Z
LAST-MODIFIED:20260329T193339Z
UID:18212-1786559400-1786566600@www.ssssclub.com
SUMMARY:Secretaries Series Race 4
DESCRIPTION:
URL:https://www.ssssclub.com/event/secretaries-series-race-4/
CATEGORIES:Racing
END:VEVENT
END:VCALENDAR